BEGIN:VCALENDAR
VERSION:2.0
PRODID:-//Barricaid - ECPv5.16.0//NONSGML v1.0//EN
CALSCALE:GREGORIAN
METHOD:PUBLISH
X-WR-CALNAME:Barricaid
X-ORIGINAL-URL:https://barricaid.com
X-WR-CALDESC:Events for Barricaid
BEGIN:VTIMEZONE
TZID:America/New_York
BEGIN:DAYLIGHT
TZOFFSETFROM:-0500
TZOFFSETTO:-0400
TZNAME:EDT
DTSTART:20260308T070000
END:DAYLIGHT
BEGIN:STANDARD
TZOFFSETFROM:-0400
TZOFFSETTO:-0500
TZNAME:EST
DTSTART:20261101T060000
END:STANDARD
END:VTIMEZONE
BEGIN:VEVENT
DTSTART;VALUE=DATE:20260226
DTEND;VALUE=DATE:20260302
DTSTAMP:20260424T095429
CREATED:20260105T161114Z
LAST-MODIFIED:20260105T161114Z
UID:8949-1772064000-1772409599@barricaid.com
SUMMARY:2026 Spine Summit Beyond Limits: Elevating Quality in Spine Surgery
DESCRIPTION:Join Barricaid at the 2026 Spine Summit Beyond Limits: Elevating Quality in Spine Surgery
URL:https://barricaid.com/event/2026-spine-summit-beyond-limits-elevating-quality-in-spine-surgery/
LOCATION:JW Marriott Phoenix Desert Ridge Resort & Spa\, 5350 E Marriott Dr\, Phoenix\, AZ\, 85054
END:VEVENT
END:VCALENDAR