BEGIN:VCALENDAR
VERSION:2.0
PRODID:-//Barricaid - ECPv5.16.0//NONSGML v1.0//EN
CALSCALE:GREGORIAN
METHOD:PUBLISH
X-WR-CALNAME:Barricaid
X-ORIGINAL-URL:https://barricaid.com
X-WR-CALDESC:Events for Barricaid
BEGIN:VTIMEZONE
TZID:America/New_York
BEGIN:DAYLIGHT
TZOFFSETFROM:-0500
TZOFFSETTO:-0400
TZNAME:EDT
DTSTART:20260308T070000
END:DAYLIGHT
BEGIN:STANDARD
TZOFFSETFROM:-0400
TZOFFSETTO:-0500
TZNAME:EST
DTSTART:20261101T060000
END:STANDARD
END:VTIMEZONE
BEGIN:VEVENT
DTSTART;VALUE=DATE:20260222
DTEND;VALUE=DATE:20260227
DTSTAMP:20260424T113910
CREATED:20260105T125546Z
LAST-MODIFIED:20260105T125546Z
UID:8940-1771718400-1772150399@barricaid.com
SUMMARY:2026 Winter Clinics for Cranial and Spinal Surgery
DESCRIPTION:Join Barricaid at the 2026 Winter Clinics for Cranial and Spinal Surgery
URL:https://barricaid.com/event/2026-winter-clinics-for-cranial-and-spinal-surgery/
LOCATION:Viewline Snowmass – Marriott Autograph Collection\, 100 Elbert Lane\, Snowmass Village\, CO\, 81615\, United States
END:VEVENT
END:VCALENDAR