BEGIN:VCALENDAR
VERSION:2.0
PRODID:-//Barricaid - ECPv5.16.0//NONSGML v1.0//EN
CALSCALE:GREGORIAN
METHOD:PUBLISH
X-WR-CALNAME:Barricaid
X-ORIGINAL-URL:https://barricaid.com
X-WR-CALDESC:Events for Barricaid
BEGIN:VTIMEZONE
TZID:America/Chicago
BEGIN:DAYLIGHT
TZOFFSETFROM:-0600
TZOFFSETTO:-0500
TZNAME:CDT
DTSTART:20250309T080000
END:DAYLIGHT
BEGIN:STANDARD
TZOFFSETFROM:-0500
TZOFFSETTO:-0600
TZNAME:CST
DTSTART:20251102T070000
END:STANDARD
END:VTIMEZONE
BEGIN:VEVENT
DTSTART;TZID=America/Chicago:20251210T183000
DTEND;TZID=America/Chicago:20251210T193000
DTSTAMP:20260424T204228
CREATED:20251112T191853Z
LAST-MODIFIED:20251202T211019Z
UID:8582-1765391400-1765395000@barricaid.com
SUMMARY:AAOS Webinar: 2026 Updates for Discectomy and Bone-Achored Annular Closure - New CPT 63032
DESCRIPTION:  \n \nJoin Barricaid for the AAOS Webinar: 2026 Updates for Discectomy and Bone-Achored Annular Closure – New CPT 63032 on December 10th at 6:30 PM EST\, 2025. \nAdam Bruggeman\, MD and April Spillane will discuss the latest developments in discectomy\, bone-anchored annular closure\, and the new CPT code 63032. Learn everything you need to know about the changing reimbursement landscape for 2026. \nUpdates include:\n– Recommended measuring and coding of large defects with proper ICD-10 codes\n– New CAT-I CPT Code 63032 for bone anchored annular closure of large defects\n– Facility coding updates\n– The impact of these codes on your patients\, practice\, and facility. \nHost \nJake Tanner\, VP of Marketing \nGuest Speakers \nApril Spillane\, VP of Health Economics\nAdam Bruggeman MD\, Orthopaedic surgeon \n  \nBe sure to register and reserve your spot!
URL:https://barricaid.com/event/aaos-webinar-2026-updates-for-discectomy-and-bone-achored-annular-closure-new-cpt-63032/
LOCATION:Online\, United States
END:VEVENT
END:VCALENDAR