BEGIN:VCALENDAR
VERSION:2.0
PRODID:-//Barricaid - ECPv5.16.0//NONSGML v1.0//EN
CALSCALE:GREGORIAN
METHOD:PUBLISH
X-WR-CALNAME:Barricaid
X-ORIGINAL-URL:https://barricaid.com
X-WR-CALDESC:Events for Barricaid
BEGIN:VTIMEZONE
TZID:America/New_York
BEGIN:DAYLIGHT
TZOFFSETFROM:-0500
TZOFFSETTO:-0400
TZNAME:EDT
DTSTART:20250309T070000
END:DAYLIGHT
BEGIN:STANDARD
TZOFFSETFROM:-0400
TZOFFSETTO:-0500
TZNAME:EST
DTSTART:20251102T060000
END:STANDARD
END:VTIMEZONE
BEGIN:VEVENT
DTSTART;VALUE=DATE:20250620
DTEND;VALUE=DATE:20250622
DTSTAMP:20260425T135022
CREATED:20250604T190440Z
LAST-MODIFIED:20250606T133039Z
UID:7432-1750377600-1750550399@barricaid.com
SUMMARY:NASS Innovation and NetWORK Summit 2025
DESCRIPTION:Join Barricaid for the NASS Innovation NetWORK Summit 2025 at the Loews Chicago O’Hare\, Rosemont\, IL  June 20 – 21 2025. \nApril Spillane\, VP\, Health Economics at Intrinsic Therapeutics will be presenting her talk\, Getting Paid for New Tech: Strategies from Industry Success Stories on Saturday at 8:50AM.
URL:https://barricaid.com/event/join-barricaid-at-nass-innovation-and-network-summit/
LOCATION:Lowes Chicago O’Hare\, 5300 N. River Road\, Chicago\, IL\, 60018\, United States
END:VEVENT
END:VCALENDAR