BEGIN:VCALENDAR
VERSION:2.0
PRODID:-//Barricaid - ECPv5.16.0//NONSGML v1.0//EN
CALSCALE:GREGORIAN
METHOD:PUBLISH
X-WR-CALNAME:Barricaid
X-ORIGINAL-URL:https://barricaid.com
X-WR-CALDESC:Events for Barricaid
BEGIN:VTIMEZONE
TZID:America/New_York
BEGIN:DAYLIGHT
TZOFFSETFROM:-0500
TZOFFSETTO:-0400
TZNAME:EDT
DTSTART:20260308T070000
END:DAYLIGHT
BEGIN:STANDARD
TZOFFSETFROM:-0400
TZOFFSETTO:-0500
TZNAME:EST
DTSTART:20261101T060000
END:STANDARD
END:VTIMEZONE
BEGIN:VEVENT
DTSTART;TZID=America/New_York:20260110T073000
DTEND;TZID=America/New_York:20260110T140000
DTSTAMP:20260424T184518
CREATED:20260105T112756Z
LAST-MODIFIED:20260105T112756Z
UID:8595-1768030200-1768053600@barricaid.com
SUMMARY:NESSG Winter Meeting 2026
DESCRIPTION:Join Barricaid for the NESSG Winter Meeting 2026
URL:https://barricaid.com/event/nessg-winter-meeting-2026/
LOCATION:Southbridge\, 14 Mechanic St\, Southbridge\, MA\, 01550
ORGANIZER;CN="The%20New%20England%20Spine%20Study%20Group":MAILTO:info@nessg.org
END:VEVENT
END:VCALENDAR