BEGIN:VCALENDAR
VERSION:2.0
PRODID:-//Barricaid - ECPv5.16.0//NONSGML v1.0//EN
CALSCALE:GREGORIAN
METHOD:PUBLISH
X-WR-CALNAME:Barricaid
X-ORIGINAL-URL:https://barricaid.com
X-WR-CALDESC:Events for Barricaid
BEGIN:VTIMEZONE
TZID:America/New_York
BEGIN:DAYLIGHT
TZOFFSETFROM:-0500
TZOFFSETTO:-0400
TZNAME:EDT
DTSTART:20250309T070000
END:DAYLIGHT
BEGIN:STANDARD
TZOFFSETFROM:-0400
TZOFFSETTO:-0500
TZNAME:EST
DTSTART:20251102T060000
END:STANDARD
END:VTIMEZONE
BEGIN:VEVENT
DTSTART;VALUE=DATE:20251208
DTEND;VALUE=DATE:20251213
DTSTAMP:20260424T224052
CREATED:20251112T165723Z
LAST-MODIFIED:20251112T165723Z
UID:8569-1765152000-1765583999@barricaid.com
SUMMARY:SOMOS 69th Annual Meeting
DESCRIPTION:Join Barricaid for the SOMOS 69th Annual Meeting on December 8-12\, 2025.
URL:https://barricaid.com/event/somos-69th-annual-meeting/
LOCATION:The Hythe\, 715 W Lionshead Cir\, Vail\, CO\, 81657\, United States
END:VEVENT
END:VCALENDAR