BEGIN:VCALENDAR
VERSION:2.0
PRODID:-//Barricaid - ECPv5.16.0//NONSGML v1.0//EN
CALSCALE:GREGORIAN
METHOD:PUBLISH
X-WR-CALNAME:Barricaid
X-ORIGINAL-URL:https://barricaid.com
X-WR-CALDESC:Events for Barricaid
BEGIN:VTIMEZONE
TZID:America/New_York
BEGIN:DAYLIGHT
TZOFFSETFROM:-0500
TZOFFSETTO:-0400
TZNAME:EDT
DTSTART:20260308T070000
END:DAYLIGHT
BEGIN:STANDARD
TZOFFSETFROM:-0400
TZOFFSETTO:-0500
TZNAME:EST
DTSTART:20261101T060000
END:STANDARD
END:VTIMEZONE
BEGIN:VEVENT
DTSTART;VALUE=DATE:20260116
DTEND;VALUE=DATE:20260120
DTSTAMP:20260424T170512
CREATED:20260105T114132Z
LAST-MODIFIED:20260105T180010Z
UID:8915-1768521600-1768867199@barricaid.com
SUMMARY:Spine: Base to Summit 2026
DESCRIPTION:Join Barricaid at Spine: Base to Summit 2026 in Vail\, CO
URL:https://barricaid.com/event/spine-base-to-summit-2026/
LOCATION:Grand Hyatt\, Vail\, CO\, 1300 Westhaven Dr.\, Vail\, 81657\, United States
ORGANIZER;CN="BroadWater":MAILTO:broad-water.com
END:VEVENT
END:VCALENDAR