BEGIN:VCALENDAR
VERSION:2.0
PRODID:-//Barricaid - ECPv5.16.0//NONSGML v1.0//EN
CALSCALE:GREGORIAN
METHOD:PUBLISH
X-WR-CALNAME:Barricaid
X-ORIGINAL-URL:https://barricaid.com
X-WR-CALDESC:Events for Barricaid
BEGIN:VTIMEZONE
TZID:America/New_York
BEGIN:DAYLIGHT
TZOFFSETFROM:-0500
TZOFFSETTO:-0400
TZNAME:EDT
DTSTART:20200308T070000
END:DAYLIGHT
BEGIN:STANDARD
TZOFFSETFROM:-0400
TZOFFSETTO:-0500
TZNAME:EST
DTSTART:20201101T060000
END:STANDARD
END:VTIMEZONE
BEGIN:VEVENT
DTSTART;VALUE=DATE:20200223
DTEND;VALUE=DATE:20200228
DTSTAMP:20260422T062923
CREATED:20200103T163110Z
LAST-MODIFIED:20200103T163937Z
UID:197-1582416000-1582847999@barricaid.com
SUMMARY:The Winter Clinics
DESCRIPTION:Presented by the Mayfield\, Mayo\, and Cleveland Clinics\, as well as Goodman Campbell Brain and Spine\, this well-known winter meeting covers emerging topics in spinal and cranial surgery. Intrinsic Therapeutics will demonstrate Barricaid’s technology and clinical results during the spinal portion of the meeting.
URL:https://barricaid.com/event/the-winter-clinics/
LOCATION:The Westin Snowmass Resort\, 100 Elbert Lane\, Snowmass Village\, CO\, 81615\, United States
END:VEVENT
END:VCALENDAR